{"text_format":"1","workbook":"xlsx","n_sheets":3,"sheets":["Tabelle1","Tabelle2","Tabelle3"],"not_rendered":{"charts":1,"images":3,"macros":1,"external_links":0,"defined_names":0,"comments":0,"pivot_tables":0},"unopened":[],"bounds":{"document_bytes":16777216,"sheet_cells":100000,"rows_first":2000,"rows_last":500,"rows_between":2000,"halvings":0,"cell_chars":16384,"cell_head_chars":4096},"cells_cut":0,"cells_raw":0,"read":"whole","date_system":"1900"}

{"sheet":"Tabelle1","index":0,"n_rows":28,"n_cols":9,"rows_kept":28,"cut":false,"hidden":false,"merged":[]}
[]
[]
[null,"t",0,"s",null,"s (Schnellzug)",{"$f":"IF(C3<=Tabelle2!M10,C4*C3+0.5*C6*C3*C3,C4*Tabelle2!M10+0.5*C6*Tabelle2!M10*Tabelle2!M10)","v":0},"m",{"$f":"4200-G3","v":4200}]
[null,"v{s}",{"$f":"120/3.6","v":33.333333333333336},"m/s",null,"s (Güterzug)",{"$f":"C5*C3+C7","v":1000},"m",{"$f":"4200-G4","v":3200}]
[null,"v{g}",{"$f":"40/3.6","v":11.111111111111111},"m/s"]
[null,"a{s}",-0.13888888888888801,"m/s^2"]
[null,"s0{g}",1000,"m"]
[]
[]
[]
[]
[]
[]
[]
[]
[]
[]
[]
[]
[null,null,null,"Schnellzug","Güterzug"]
[null,null,null,null,"``````","1000m"]
[]
[]
[]
[]
[]
[]
[null,null,null,null,null,"Zeit t:"]

{"sheet":"Tabelle2","index":1,"n_rows":66,"n_cols":13,"rows_kept":66,"cut":false,"hidden":false,"merged":[]}
[]
[]
[null,"t",null,"s"]
[null,"v{s}",{"$f":"Tabelle1!C4","v":33.333333333333336},"m/s"]
[null,"v{g}",{"$f":"Tabelle1!C5","v":11.111111111111111},"m/s"]
[null,"a{s}",{"$f":"Tabelle1!C6","v":-0.13888888888888801},"m/s^2"]
[null,"s0{g}",{"$f":"Tabelle1!C7","v":1000},"m"]
[]
[null,"t","s{s}","s{g}","Spalte für die bewegten Punkte",null,null,null,null,"Abschnitt wichtig für Bestimmung der Zeit, ab der der Schnellzug steht"]
[null,0,{"$f":"IF($B10<=240,$C$4*$B10+0.5*$C$6*$B10*$B10,$C$4*240+0.5*$C$6*240*240)","v":0},{"$f":"$C$5*B10+$C$7","v":1000},{"$f":"Tabelle1!G3","v":0},"S{s}",{"$f":"Tabelle1!G3","v":0},null,null,{"$f":"C10","v":0},{"$f":"B10","v":0},null,{"$f":"VLOOKUP(MAX(J:J),J:K,2,FALSE)","v":240}]
[null,{"$f":"B10+5","v":5},{"$f":"IF($C$4*$B11+0.5*$C$6*$B11*$B11>C10,$C$4*$B11+0.5*$C$6*$B11*$B11,C10)","v":164.9305555555556},{"$f":"$C$5*B11+$C$7","v":1055.5555555555557},{"$f":"Tabelle1!G3+1","v":1},null,{"$f":"Tabelle1!G4","v":1000},null,null,{"$f":"C11","v":164.9305555555556},5,null,"Ergebnis"]
[null,{"$f":"B11+5","v":10},{"$f":"IF($C$4*$B12+0.5*$C$6*$B12*$B12>C11,$C$4*$B12+0.5*$C$6*$B12*$B12,C11)","v":326.38888888888897},1111.1111111111111,{"$f":"Tabelle1!G3+0","v":0},null,{"$f":"Tabelle1!C3","v":0},null,null,326.38888888888897,10]
[null,15,484.37500000000017,1166.6666666666667,{"$f":"Tabelle1!G3+1","v":1},null,null,null,null,484.37500000000017,15]
[null,20,638.88888888888914,1222.2222222222222,null,null,null,null,null,638.88888888888914,20]
[null,25,789.93055555555588,1277.7777777777778,null,null,null,null,null,789.93055555555588,25]
[null,30,937.50000000000045,1333.3333333333333,{"$f":"Tabelle1!G4","v":1000},"s{g}",null,null,null,937.50000000000045,30]
[null,35,1081.5972222222229,1388.8888888888889,{"$f":"Tabelle1!G4+1","v":1001},null,null,null,null,1081.5972222222229,35]
[null,40,1222.2222222222231,1444.4444444444443,{"$f":"Tabelle1!G4+0","v":1000},null,null,null,null,1222.2222222222231,40]
[null,45,1359.3750000000009,1500,{"$f":"Tabelle1!G4+1","v":1001},null,null,null,null,1359.3750000000009,45]
[null,50,1493.0555555555568,1555.5555555555557,null,null,null,null,null,1493.0555555555568,50]
[null,55,1623.2638888888903,1611.1111111111111,null,null,null,null,null,1623.2638888888903,55]
[null,60,1750.0000000000018,1666.6666666666665,{"$f":"Tabelle1!C3","v":0},"t",null,null,null,1750.0000000000018,60]
[null,65,1873.263888888891,1722.2222222222222,{"$f":"Tabelle1!C3+1","v":1},null,null,null,null,1873.263888888891,65]
[null,70,1993.0555555555579,1777.7777777777778,{"$f":"Tabelle1!C3+1","v":1},null,null,null,null,{"$f":"C24","v":1993.0555555555579},70]
[null,75,2109.3750000000027,1833.3333333333333,{"$f":"Tabelle1!C3+1","v":1},null,null,null,null,{"$f":"C25","v":2109.3750000000027},75]
[null,80,2222.2222222222254,1888.8888888888889,null,null,null,null,null,2222.2222222222254,80]
[null,85,2331.5972222222254,1944.4444444444443,null,null,null,null,null,2331.5972222222254,85]
[null,90,2437.5000000000036,2000,null,null,null,null,null,2437.5000000000036,90]
[null,95,2539.9305555555597,2055.5555555555557,null,null,null,null,null,2539.9305555555597,95]
[null,100,2638.8888888888932,2111.1111111111113,null,null,null,null,null,2638.8888888888932,100]
[null,105,2734.3750000000055,2166.6666666666665,null,null,null,null,null,2734.3750000000055,105]
[null,110,2826.3888888888946,2222.2222222222222,null,null,null,null,null,2826.3888888888946,110]
[null,115,2914.9305555555616,2277.7777777777778,null,null,null,null,null,2914.9305555555616,115]
[null,120,3000.0000000000068,2333.333333333333,null,null,null,null,null,3000.0000000000068,120]
[null,{"$f":"B34+5","v":125},3081.5972222222294,2388.8888888888887,null,null,null,null,null,3081.5972222222294,125]
[null,130,3159.7222222222304,2444.4444444444443,null,null,null,null,null,3159.7222222222304,130]
[null,135,3234.3750000000082,2500,null,null,null,null,null,3234.3750000000082,135]
[null,140,3305.5555555555648,2555.5555555555557,null,null,null,null,null,3305.5555555555648,140]
[null,145,3373.2638888888987,2611.1111111111113,null,null,null,null,null,3373.2638888888987,145]
[null,150,3437.50000000001,2666.6666666666665,null,null,null,null,null,3437.50000000001,150]
[null,155,3498.2638888888996,2722.2222222222222,null,null,null,null,null,3498.2638888888996,155]
[null,160,3555.5555555555675,2777.7777777777778,null,null,null,null,null,3555.5555555555675,{"$f":"B42","v":160}]
[null,165,3609.3750000000118,2833.333333333333,null,null,null,null,null,3609.3750000000118,165]
[null,170,3659.7222222222354,2888.8888888888887,null,null,null,null,null,3659.7222222222354,170]
[null,175,3706.5972222222363,2944.4444444444443,null,null,null,null,null,3706.5972222222363,175]
[null,180,3750.0000000000146,3000,null,null,null,null,null,3750.0000000000146,180]
[null,185,3789.9305555555707,3055.5555555555557,null,null,null,null,null,3789.9305555555707,185]
[null,190,3826.3888888889055,3111.1111111111109,null,null,null,null,null,3826.3888888889055,190]
[null,195,3859.3750000000177,3166.6666666666665,null,null,null,null,null,3859.3750000000177,195]
[null,200,3888.8888888889069,3222.2222222222222,null,null,null,null,null,3888.8888888889069,200]
[null,205,3914.9305555555748,3277.7777777777778,null,null,null,null,null,3914.9305555555748,205]
[null,210,3937.50000000002,3333.333333333333,null,null,null,null,null,3937.50000000002,210]
[null,215,3956.5972222222426,3388.8888888888887,null,null,null,null,null,3956.5972222222426,215]
[null,220,3972.222222222244,3444.4444444444443,null,null,null,null,null,3972.222222222244,220]
[null,225,3984.3750000000232,3500,null,null,null,null,null,3984.3750000000232,225]
[null,230,3993.0555555555793,3555.5555555555557,null,null,null,null,null,3993.0555555555793,230]
[null,235,3998.2638888889142,3611.1111111111109,null,null,null,null,null,3998.2638888889142,235]
[null,240,4000.0000000000264,3666.6666666666665,null,null,null,null,null,4000.0000000000264,240]
[null,{"$f":"B58+5","v":245},4000.0000000000264,3722.2222222222222,null,null,null,null,null,4000.0000000000264,245]
[null,250,4000.0000000000264,3777.7777777777778,null,null,null,null,null,4000.0000000000264,250]
[null,255,4000.0000000000264,3833.333333333333,null,null,null,null,null,4000.0000000000264,255]
[null,260,4000.0000000000264,3888.8888888888887,null,null,null,null,null,4000.0000000000264,260]
[null,265,4000.0000000000264,3944.4444444444443,null,null,null,null,null,4000.0000000000264,265]
[null,270,4000.0000000000264,4000,null,null,null,null,null,4000.0000000000264,270]
[null,{"$f":"B64+5","v":275},4000.0000000000264,4055.5555555555557,null,null,null,null,null,4000.0000000000264,275]
[null,280,4000.0000000000264,4111.1111111111113,null,null,null,null,null,4000.0000000000264,280]

{"sheet":"Tabelle3","index":2,"n_rows":0,"n_cols":0,"rows_kept":0,"cut":false,"hidden":false,"merged":[]}